Workbook
Name Excel_BuiltIn__FilterDatabase: Grades!$B$2:$F$6

Sheet Grades
B1: EN 110 | D1: =SUM(E1:G1) -> 100 | E1: 34 | G1: 66
B2: Student Name | C2: FG | D2: FG% | E2: Exam | G2: P | H2: P (total from below)
A3: 1 | B3: Abromowitz, Lucas | D3: =SUM(E3:G3) -> 27.5 | E3: =E38 -> 0 | G3: =H3*K$3 -> 27.5 | H3: =AP38 -> 27.5 | K3: 1 | L3: A+
A4: 2 | B4: Almanza, Angelina | D4: =SUM(E4:G4) -> 28 | E4: =E39 -> 0 | G4: =H4*K$3 -> 28 | H4: =AP39 -> 28 | K4: 0.9 | L4: A
A5: 3 | B5: Boburka, Everett | D5: =SUM(E5:G5) -> 31.5 | E5: =E40 -> 0 | G5: =H5*K$3 -> 31.5 | H5: =AP40 -> 31.5 | K5: 0.8 | L5: B+
A6: 4 | B6: Bruno, Katelyn | D6: =SUM(E6:G6) -> 32.8 | E6: =E41 -> 0 | G6: =H6*K$3 -> 32.8 | H6: =AP41 -> 32.8 | K6: 0.76 | L6: B
A7: =A6+1 -> 5 | B7: Bryant, Jaylen | D7: =SUM(E7:G7) -> 33 | E7: =E42 -> 0 | G7: =H7*K$3 -> 33 | H7: =AP42 -> 33 | K7: 0.7 | L7: B-
A8: 6 | B8: Casebier, Savannah | D8: =SUM(E8:G8) -> 6.2 | E8: =E43 -> 0 | G8: =H8*K$3 -> 6.2 | H8: =AP43 -> 6.2 | K8: 0.66 | L8: C
A9: 7 | B9: Crotteau, Gina M | D9: =SUM(E9:G9) -> 10 | E9: =E44 -> 0 | G9: =H9*K$3 -> 10 | H9: =AP44 -> 10 | K9: 0.6 | L9: C-
A10: =A9+1 -> 8 | B10: Dagenais, Ashley | D10: =SUM(E10:G10) -> 18.4 | E10: =E45 -> 0 | G10: =H10*K$3 -> 18.4 | H10: =AP45 -> 18.4 | K10: 0.58 | L10: D+
A11: =A10+1 -> 9 | B11: Decker, Arielle | D11: =SUM(E11:G11) -> 22 | E11: =E46 -> 0 | G11: =H11*K$3 -> 22 | H11: =AP46 -> 22 | K11: 0.5 | L11: D-
A12: =A11+1 -> 10 | B12: Dorelus, Evens | D12: =SUM(E12:G12) -> 26 | E12: =E47 -> 0 | G12: =H12*K$3 -> 26 | H12: =AP47 -> 26 | K12: 0.3 | L12: F
A13: =A12+1 -> 11 | B13: Freeman, Kelsey | D13: =SUM(E13:G13) -> 29 | E13: =E48 -> 0 | G13: =H13*K$3 -> 29 | H13: =AP48 -> 29
A14: =A13+1 -> 12 | B14: Galvan, Christina | D14: =SUM(E14:G14) -> 30.5 | E14: =E49 -> 0 | G14: =H14*K$3 -> 30.5 | H14: =AP49 -> 30.5
A15: =A14+1 -> 13 | B15: Hager, Kaia | D15: =SUM(E15:G15) -> 27 | E15: =E50 -> 0 | G15: =H15*K$3 -> 27 | H15: =AP50 -> 27
A16: =A15+1 -> 14 | B16: Hayes, Brayden | D16: =SUM(E16:G16) -> 21.9 | E16: =E51 -> 0 | G16: =H16*K$3 -> 21.9 | H16: =AP51 -> 21.9
A17: =A16+1 -> 15 | B17: Haynor, Lee | D17: =SUM(E17:G17) -> 29.1 | E17: =E52 -> 0 | G17: =H17*K$3 -> 29.1 | H17: =AP52 -> 29.1
A18: 16 | B18: Jacobson, Gavin | D18: =SUM(E18:G18) -> 19.9 | E18: =E53 -> 0 | G18: =H18*K$3 -> 19.9 | H18: =AP53 -> 19.9
A19: 17 | B19: Jendrychowski, Matt | D19: =SUM(E19:G19) -> 29.5 | E19: =E54 -> 0 | G19: =H19*K$3 -> 29.5 | H19: =AP54 -> 29.5
A20: =A19+1 -> 18 | B20: Kelly, Caitlyn | D20: =SUM(E20:G20) -> 31.4 | E20: =E55 -> 0 | G20: =H20*K$3 -> 31.4 | H20: =AP55 -> 31.4
A21: =A20+1 -> 19 | B21: Leborgne, Cameron | D21: =SUM(E21:G21) -> 27.8 | E21: =E56 -> 0 | G21: =H21*K$3 -> 27.8 | H21: =AP56 -> 27.8
A22: =A21+1 -> 20 | B22: McIntyre, Kyra | D22: =SUM(E22:G22) -> 26 | E22: =E57 -> 0 | G22: =H22*K$3 -> 26 | H22: =AP57 -> 26
A23: =A22+1 -> 21 | B23: Moody, Annika | D23: =SUM(E23:G23) -> 32.8 | E23: =E58 -> 0 | G23: =H23*K$3 -> 32.8 | H23: =AP58 -> 32.8
A24: =A23+1 -> 22 | B24: Moomey, Courtney | D24: =SUM(E24:G24) -> 30.7 | E24: =E59 -> 0 | G24: =H24*K$3 -> 30.7 | H24: =AP59 -> 30.7
A25: =A24+1 -> 23 | B25: Menard, Luke | D25: =SUM(E25:G25) -> 28 | E25: =E60 -> 0 | G25: =H25*K$3 -> 28 | H25: =AP60 -> 28
A26: =A25+1 -> 24 | B26: Robinson, Natasha | D26: =SUM(E26:G26) -> 31.7 | E26: =E61 -> 0 | G26: =H26*K$3 -> 31.7 | H26: =AP61 -> 31.7
A27: =A26+1 -> 25 | B27: Roiko, Cheryl | D27: =SUM(E27:G27) -> 27.6 | E27: =E62 -> 0 | G27: =H27*K$3 -> 27.6 | H27: =AP62 -> 27.6
A28: =A27+1 -> 26 | B28: Sispera, Jonah | D28: =SUM(E28:G28) -> 27 | E28: =E63 -> 0 | G28: =H28*K$3 -> 27 | H28: =AP63 -> 27
A29: =A28+1 -> 27 | B29: Smith, Brittney | D29: =SUM(E29:G29) -> 32.8 | E29: =E64 -> 0 | G29: =H29*K$3 -> 32.8 | H29: =AP64 -> 32.8
A30: =A29+1 -> 28 | B30: Snyder, Mya | D30: =SUM(E30:G30) -> 31 | E30: =E65 -> 0 | G30: =H30*K$3 -> 31 | H30: =AP65 -> 31
A31: =A30+1 -> 29 | B31: Staffeldt, Kris | D31: =SUM(E31:G31) -> 33 | E31: =E66 -> 0 | G31: =H31*K$3 -> 33 | H31: =AP66 -> 33
A32: =A31+1 -> 30 | B32: Tilotta, Nadia | D32: =SUM(E32:G32) -> 18.8 | E32: =E67 -> 0 | G32: =H32*K$3 -> 18.8 | H32: =AP67 -> 18.8
C33: Avg. | D33: =AVERAGE(D3:D32) -> 26.696667 | E33: =AVERAGE(E3:E32) -> 0 | F33: =AVERAGE(F3:F32) -> #DIV/0! | G33: =AVERAGE(G3:G32) -> 26.696667 | H33: =AVERAGE(H3:H32) -> 26.696667
K35: Phase | L35: 1.1 | M35: 1.2 | N35: 1.3 | P35: 2.1 | Q35: 2.2 | R35: 2.3 | S35: 2.4 | U35: 3.1 | V35: 3.2 | W35: 3.3 | X35: 3.4 | AA35: 4.1 | AB35: 4.2 | AC35: 4.3 | AD35: 4.4 | AF35: 5.1 | AG35: 5.2 | AH35: 5.3 | AI35: 5.4 | AK35: 6.1 | AL35: 6.2 | AM35: 6.3
C36: EXAM | L36: 1 | M36: 2 | N36: 3 | O36: Total | P36: 4 | Q36: 5 | R36: 6 | S36: 7 | T36: Total | U36: 8 | V36: 9 | W36: 10 | X36: 11 | Y36: Total | AA36: 12 | AB36: 13 | AC36: 14 | AD36: 15 | AE36: Total | AF36: 16 | AG36: 17 | AH36: 18 | AI36: 19 | AJ36: Total | AK36: 20 | AL36: 21 | AM36: 22 | AN36: Total
B37: Student Name | C37: Quiz | D37: Essay | E37: Total | L37: 8/26 | M37: 8/28 | N37: 9/2 | O37: 9/4 | P37: 9/9 | Q37: 9/11 | R37: 9/16 | S37: 9/18 | T37: 9/23 | U37: 9/25 | V37: 9/30 | W37: 10/2 | X37: 10/7 | Y37: 10/9 | AA37: 10/14 | AB37: 10/16 | AC37: 10/21 | AD37: 10/23 | AE37: 10/28 | AF37: 10/30 | AG37: 11/4 | AH37: 11/6 | AI37: 11/11 | AJ37: 11/13 | AK37: 11/18 | AL37: 11/20 | AM37: 12/2 | AN37: 12/4 | AO37: Student Name | AP37: Part. | AR37: Midterm
A38: =A3 -> 1 | B38: =B3 -> Abromowitz, Lucas | C38: 0 | D38: 0 | E38: =C38+(D38*0.18) -> 0 | F38: =B3 -> Abromowitz, Lucas | L38: 3 | M38: 2.5 | N38: 2 | O38: =SUM(L38:N38) -> 7.5 | P38: 3 | Q38: 3 | R38: 3 | S38: 3 | T38: =SUM(P38:S38) -> 12 | U38: 3 | V38: 3 | W38: 2 | X38: 0 | Y38: =SUM(U38:X38) -> 8 | Z38: =B3 -> Abromowitz, Lucas | AA38: 2 | AB38: 0 | AC38: 0 | AD38: 0 | AE38: =SUM(AA38:AD38) -> 2 | AF38: 0 | AG38: 0 | AH38: 0 | AI38: 0 | AJ38: =SUM(AF38:AI38) -> 0 | AK38: 0 | AL38: 0 | AM38: 0 | AN38: =SUM(AK38:AM38) -> 0 | AO38: =B3 -> Abromowitz, Lucas | AP38: =O38+T38+Y38 -> 27.5 | AQ38: =A3 -> 1 | AR38: =(AP38/33)*K$4 -> 0.75 | AS38: B
A39: =A4 -> 2 | B39: =B4 -> Almanza, Angelina | C39: 0 | D39: 0 | E39: =C39+(D39*0.18) -> 0 | F39: =B4 -> Almanza, Angelina | L39: 3 | M39: 3 | N39: 3 | O39: =SUM(L39:N39) -> 9 | P39: 2 | Q39: 3 | R39: 1 | S39: 3 | T39: =SUM(P39:S39) -> 9 | U39: 2 | V39: 3 | W39: 2 | X39: 3 | Y39: =SUM(U39:X39) -> 10 | Z39: =B4 -> Almanza, Angelina | AA39: 3 | AB39: 3 | AC39: 3 | AD39: 3 | AE39: =SUM(AA39:AD39) -> 12 | AF39: 2 | AG39: 2 | AH39: 0 | AI39: 0 | AJ39: =SUM(AF39:AI39) -> 4 | AK39: 0 | AL39: 0 | AM39: 0 | AN39: =SUM(AK39:AM39) -> 0 | AO39: =B4 -> Almanza, Angelina | AP39: =O39+T39+Y39 -> 28 | AQ39: =A4 -> 2 | AR39: =(AP39/33)*K$4 -> 0.76363636 | AS39: B
A40: =A5 -> 3 | B40: =B5 -> Boburka, Everett | C40: 0 | D40: 0 | E40: =C40+(D40*0.18) -> 0 | F40: =B5 -> Boburka, Everett | L40: 3 | M40: 3 | N40: 3 | O40: =SUM(L40:N40) -> 9 | P40: 3 | Q40: 2 | R40: 3 | S40: 3 | T40: =SUM(P40:S40) -> 11 | U40: 2.5 | V40: 3 | W40: 3 | X40: 3 | Y40: =SUM(U40:X40) -> 11.5 | Z40: =B5 -> Boburka, Everett | AA40: 3 | AB40: 3 | AC40: 3 | AD40: 3 | AE40: =SUM(AA40:AD40) -> 12 | AF40: 3 | AG40: 3 | AH40: 0 | AI40: 0 | AJ40: =SUM(AF40:AI40) -> 6 | AK40: 0 | AL40: 0 | AM40: 0 | AN40: =SUM(AK40:AM40) -> 0 | AO40: =B5 -> Boburka, Everett | AP40: =O40+T40+Y40 -> 31.5 | AQ40: =A5 -> 3 | AR40: =(AP40/33)*K$4 -> 0.85909091 | AS40: A-
A41: =A6 -> 4 | B41: =B6 -> Bruno, Katelyn | C41: 0 | D41: 0 | E41: =C41+(D41*0.18) -> 0 | F41: =B6 -> Bruno, Katelyn | L41: 3 | M41: 2.8 | N41: 3 | O41: =SUM(L41:N41) -> 8.8 | P41: 3 | Q41: 3 | R41: 3 | S41: 3 | T41: =SUM(P41:S41) -> 12 | U41: 3 | V41: 3 | W41: 3 | X41: 3 | Y41: =SUM(U41:X41) -> 12 | Z41: =B6 -> Bruno, Katelyn | AA41: 3 | AB41: 3 | AC41: 3 | AD41: 3 | AE41: =SUM(AA41:AD41) -> 12 | AF41: 3 | AG41: 3 | AH41: 0 | AI41: 0 | AJ41: =SUM(AF41:AI41) -> 6 | AK41: 0 | AL41: 0 | AM41: 0 | AN41: =SUM(AK41:AM41) -> 0 | AO41: =B6 -> Bruno, Katelyn | AP41: =O41+T41+Y41 -> 32.8 | AQ41: =A6 -> 4 | AR41: =(AP41/33)*K$4 -> 0.89454545 | AS41: A
...

Sheet Attendance
A1: EN112-01-TSB 1706 | B1: 44803 | C1: 44805 | D1: 44810 | E1: 44812 | F1: 44817 | G1: 44819 | H1: 44824 | I1: 44826 | J1: 44831 | K1: 44833 | L1: 44838 | M1: 44840 | N1: 44845 | O1: 44847 | P1: 44852 | Q1: 44854 | R1: 44859 | S1: 44861 | T1: 44866 | U1: 44868 | V1: 44873 | W1: 44875 | X1: 44880 | Y1: 44882 | Z1: 44894 | AA1: 44896 | AB1: 44901 | AC1: 44903
A2: =Grades!B4 -> Almanza, Angelina
A3: =Grades!#REF! -> #REF!
A4: =Grades!B5 -> Boburka, Everett
A5: =Grades!B6 -> Bruno, Katelyn
A6: =Grades!B7 -> Bryant, Jaylen
A7: =Grades!#REF! -> #REF!
A8: =Grades!B8 -> Casebier, Savannah
A9: =Grades!B9 -> Crotteau, Gina M
A10: =Grades!B10 -> Dagenais, Ashley
A11: =Grades!B11 -> Decker, Arielle
A12: =Grades!B12 -> Dorelus, Evens
A13: =Grades!B13 -> Freeman, Kelsey
A14: =Grades!B14 -> Galvan, Christina
A15: =Grades!B3 -> Abromowitz, Lucas
A16: =Grades!B15 -> Hager, Kaia
A17: =Grades!B16 -> Hayes, Brayden
A18: =Grades!B17 -> Haynor, Lee
A19: =Grades!#REF! -> #REF!
A20: =Grades!B19 -> Jendrychowski, Matt
A21: =Grades!B20 -> Kelly, Caitlyn
A22: =Grades!B21 -> Leborgne, Cameron
A23: =Grades!B22 -> McIntyre, Kyra
A24: =Grades!B23 -> Moody, Annika
A25: =Grades!B24 -> Moomey, Courtney
A26: =Grades!B25 -> Menard, Luke
A27: =Grades!#REF! -> #REF!
A28: =Grades!B26 -> Robinson, Natasha
A29: =Grades!B27 -> Roiko, Cheryl
A30: =Grades!B28 -> Sispera, Jonah
A31: =Grades!B29 -> Smith, Brittney
A32: =Grades!B30 -> Snyder, Mya
A33: =Grades!B31 -> Staffeldt, Kris
A34: =Grades!#REF! -> #REF!
A35: =Grades!B32 -> Tilotta, Nadia
A36: =Grades!#REF! -> #REF!
